BEGIN:VCALENDAR
VERSION:2.0
PRODID:-//Gagetown Chamber of Commerce - ECPv6.15.17//NONSGML v1.0//EN
CALSCALE:GREGORIAN
METHOD:PUBLISH
X-ORIGINAL-URL:https://www.gagetownchamber.com
X-WR-CALDESC:Events for Gagetown Chamber of Commerce
REFRESH-INTERVAL;VALUE=DURATION:PT1H
X-Robots-Tag:noindex
X-PUBLISHED-TTL:PT1H
BEGIN:VTIMEZONE
TZID:America/Moncton
BEGIN:DAYLIGHT
TZOFFSETFROM:-0400
TZOFFSETTO:-0300
TZNAME:ADT
DTSTART:20230312T060000
END:DAYLIGHT
BEGIN:STANDARD
TZOFFSETFROM:-0300
TZOFFSETTO:-0400
TZNAME:AST
DTSTART:20231105T050000
END:STANDARD
BEGIN:DAYLIGHT
TZOFFSETFROM:-0400
TZOFFSETTO:-0300
TZNAME:ADT
DTSTART:20240310T060000
END:DAYLIGHT
BEGIN:STANDARD
TZOFFSETFROM:-0300
TZOFFSETTO:-0400
TZNAME:AST
DTSTART:20241103T050000
END:STANDARD
BEGIN:DAYLIGHT
TZOFFSETFROM:-0400
TZOFFSETTO:-0300
TZNAME:ADT
DTSTART:20250309T060000
END:DAYLIGHT
BEGIN:STANDARD
TZOFFSETFROM:-0300
TZOFFSETTO:-0400
TZNAME:AST
DTSTART:20251102T050000
END:STANDARD
BEGIN:DAYLIGHT
TZOFFSETFROM:-0400
TZOFFSETTO:-0300
TZNAME:ADT
DTSTART:20260308T060000
END:DAYLIGHT
BEGIN:STANDARD
TZOFFSETFROM:-0300
TZOFFSETTO:-0400
TZNAME:AST
DTSTART:20261101T050000
END:STANDARD
BEGIN:DAYLIGHT
TZOFFSETFROM:-0400
TZOFFSETTO:-0300
TZNAME:ADT
DTSTART:20270314T060000
END:DAYLIGHT
BEGIN:STANDARD
TZOFFSETFROM:-0300
TZOFFSETTO:-0400
TZNAME:AST
DTSTART:20271107T050000
END:STANDARD
END:VTIMEZONE
BEGIN:VEVENT
DTSTART;TZID=America/Moncton:20260114T183000
DTEND;TZID=America/Moncton:20260114T200000
DTSTAMP:20260423T113319
CREATED:20260105T204603Z
LAST-MODIFIED:20260105T204603Z
UID:4573-1768415400-1768420800@www.gagetownchamber.com
SUMMARY:Gagetown and Area Chamber of Commerce Meeting
DESCRIPTION:
URL:https://www.gagetownchamber.com/event/gagetown-and-area-chamber-of-commerce-meeting-7/
LOCATION:Anglican Parish Hall\, 3 Courthouse Road\, Gagetown\, New Brunswick\, E5M 1E1\, Canada
END:VEVENT
BEGIN:VEVENT
DTSTART;TZID=America/Moncton:20251216T183000
DTEND;TZID=America/Moncton:20251216T203000
DTSTAMP:20260423T113319
CREATED:20251212T225526Z
LAST-MODIFIED:20251212T225526Z
UID:4570-1765909800-1765917000@www.gagetownchamber.com
SUMMARY:Information Session - Gagetown Marina Co-op
DESCRIPTION:
URL:https://www.gagetownchamber.com/event/information-session-gagetown-marina-co-op/
LOCATION:Gagetown Legion\, 81 Tilley Rd\, Gagetown\, NB E5M 1B3\, Gagetown\, NB\, E5M 1B3\, Canada
END:VEVENT
BEGIN:VEVENT
DTSTART;TZID=America/Moncton:20251210T193000
DTEND;TZID=America/Moncton:20251210T203000
DTSTAMP:20260423T113319
CREATED:20250909T224504Z
LAST-MODIFIED:20251124T211454Z
UID:4508-1765395000-1765398600@www.gagetownchamber.com
SUMMARY:Gagetown Marina Co-op Meeting
DESCRIPTION:
URL:https://www.gagetownchamber.com/event/gagetown-and-area-chamber-of-commerce-meeting-4/
LOCATION:Gagetown Legion\, 81 Tilley Rd\, Gagetown\, NB E5M 1B3\, Gagetown\, NB\, E5M 1B3\, Canada
END:VEVENT
BEGIN:VEVENT
DTSTART;TZID=America/Moncton:20251210T183000
DTEND;TZID=America/Moncton:20251210T193000
DTSTAMP:20260423T113319
CREATED:20251028T134410Z
LAST-MODIFIED:20251124T211530Z
UID:4539-1765391400-1765395000@www.gagetownchamber.com
SUMMARY:Gagetown and Area Chamber of Commerce Meeting
DESCRIPTION:
URL:https://www.gagetownchamber.com/event/gagetown-and-area-chamber-of-commerce-meeting-6/
LOCATION:Gagetown Legion\, 81 Tilley Rd\, Gagetown\, NB E5M 1B3\, Gagetown\, NB\, E5M 1B3\, Canada
END:VEVENT
BEGIN:VEVENT
DTSTART;TZID=America/Moncton:20251129T100000
DTEND;TZID=America/Moncton:20251130T170000
DTSTAMP:20260423T113319
CREATED:20250908T222913Z
LAST-MODIFIED:20250908T222913Z
UID:4494-1764410400-1764522000@www.gagetownchamber.com
SUMMARY:Christmas in the Village - 2025
DESCRIPTION:
URL:https://www.gagetownchamber.com/event/christmas-in-the-village-2025/
LOCATION:Various Gagetown Businesses
END:VEVENT
BEGIN:VEVENT
DTSTART;TZID=America/Moncton:20251112T183000
DTEND;TZID=America/Moncton:20251112T200000
DTSTAMP:20260423T113319
CREATED:20251112T234413Z
LAST-MODIFIED:20250909T224737Z
UID:4506-1762972200-1762977600@www.gagetownchamber.com
SUMMARY:Gagetown and Area Chamber of Commerce Meeting
DESCRIPTION:
URL:https://www.gagetownchamber.com/event/gagetown-and-area-chamber-of-commerce-meeting-3/
LOCATION:Anglican Parish Hall\, 3 Courthouse Road\, Gagetown\, New Brunswick\, E5M 1E1\, Canada
END:VEVENT
BEGIN:VEVENT
DTSTART;TZID=America/Moncton:20251112T183000
DTEND;TZID=America/Moncton:20251112T200000
DTSTAMP:20260423T113319
CREATED:20251028T134308Z
LAST-MODIFIED:20251028T134308Z
UID:4537-1762972200-1762977600@www.gagetownchamber.com
SUMMARY:Gagetown and Area Chamber of Commerce Meeting
DESCRIPTION:
URL:https://www.gagetownchamber.com/event/gagetown-and-area-chamber-of-commerce-meeting-5/
LOCATION:Anglican Parish Hall\, 3 Courthouse Road\, Gagetown\, New Brunswick\, E5M 1E1\, Canada
END:VEVENT
BEGIN:VEVENT
DTSTART;TZID=America/Moncton:20251008T173000
DTEND;TZID=America/Moncton:20251008T200000
DTSTAMP:20260423T113319
CREATED:20250909T224321Z
LAST-MODIFIED:20250909T224826Z
UID:4504-1759944600-1759953600@www.gagetownchamber.com
SUMMARY:Gagetown and Area Chamber of Commerce Meeting
DESCRIPTION:
URL:https://www.gagetownchamber.com/event/gagetown-and-area-chamber-of-commerce-meeting-2/
LOCATION:Gagetown Legion\, 81 Tilley Rd\, Gagetown\, NB E5M 1B3\, Gagetown\, NB\, E5M 1B3\, Canada
END:VEVENT
BEGIN:VEVENT
DTSTART;TZID=America/Moncton:20250910T183000
DTEND;TZID=America/Moncton:20250910T200000
DTSTAMP:20260423T113319
CREATED:20250909T224148Z
LAST-MODIFIED:20250909T224148Z
UID:4500-1757529000-1757534400@www.gagetownchamber.com
SUMMARY:Gagetown and Area Chamber of Commerce Meeting
DESCRIPTION:
URL:https://www.gagetownchamber.com/event/gagetown-and-area-chamber-of-commerce-meeting/
LOCATION:Anglican Parish Hall\, 3 Courthouse Road\, Gagetown\, New Brunswick\, E5M 1E1\, Canada
END:VEVENT
BEGIN:VEVENT
DTSTART;TZID=America/Moncton:20250102T183000
DTEND;TZID=America/Moncton:20250102T203000
DTSTAMP:20260423T113319
CREATED:20241125T181644Z
LAST-MODIFIED:20241125T181706Z
UID:4466-1735842600-1735849800@www.gagetownchamber.com
SUMMARY:Trivia at the Gagetown Grill
DESCRIPTION:Happy New Year! We are back tonight with another round of Trivia at the Gagetown Grill.
URL:https://www.gagetownchamber.com/event/trivia-at-the-gagetown-grill-4/
LOCATION:The Gagetown Grill
END:VEVENT
BEGIN:VEVENT
DTSTART;TZID=America/Moncton:20241226T183000
DTEND;TZID=America/Moncton:20241226T203000
DTSTAMP:20260423T113319
CREATED:20241125T181036Z
LAST-MODIFIED:20241125T181036Z
UID:4464-1735237800-1735245000@www.gagetownchamber.com
SUMMARY:No Trivia at the Gagetown Grill Tonight
DESCRIPTION:Trivia will Cancelled tonight due to the Holidays. Trivia will resume next week on 2 Jan 2025 at the Gagetown Grill
URL:https://www.gagetownchamber.com/event/no-trivia-at-the-gagetown-grill-tonight/
LOCATION:The Gagetown Grill
END:VEVENT
BEGIN:VEVENT
DTSTART;TZID=America/Moncton:20241219T183000
DTEND;TZID=America/Moncton:20241219T203000
DTSTAMP:20260423T113319
CREATED:20241125T180301Z
LAST-MODIFIED:20241125T180301Z
UID:4462-1734633000-1734640200@www.gagetownchamber.com
SUMMARY:Trivia at the Gagetown Grill
DESCRIPTION:Come Join Us for a night of Trivia at the Gagetown Grill
URL:https://www.gagetownchamber.com/event/trivia-at-the-gagetown-grill-3/
LOCATION:The Gagetown Grill
END:VEVENT
BEGIN:VEVENT
DTSTART;TZID=America/Moncton:20241212T183000
DTEND;TZID=America/Moncton:20241212T203000
DTSTAMP:20260423T113319
CREATED:20241125T180144Z
LAST-MODIFIED:20241125T180144Z
UID:4460-1734028200-1734035400@www.gagetownchamber.com
SUMMARY:Trivia at the Gagetown Grill
DESCRIPTION:Come Join Us for a night of Trivia at the Gagetown Grill
URL:https://www.gagetownchamber.com/event/trivia-at-the-gagetown-grill-2/
LOCATION:The Gagetown Grill
END:VEVENT
BEGIN:VEVENT
DTSTART;TZID=America/Moncton:20241205T183000
DTEND;TZID=America/Moncton:20241205T203000
DTSTAMP:20260423T113319
CREATED:20241125T175805Z
LAST-MODIFIED:20241125T175805Z
UID:4458-1733423400-1733430600@www.gagetownchamber.com
SUMMARY:Trivia at the Gagetown Grill
DESCRIPTION:Come Join us for a night of Trivia at the Gagetown Grill.
URL:https://www.gagetownchamber.com/event/trivia-at-the-gagetown-grill/
LOCATION:The Gagetown Grill
END:VEVENT
BEGIN:VEVENT
DTSTART;TZID=America/Moncton:20241128T183000
DTEND;TZID=America/Moncton:20241128T203000
DTSTAMP:20260423T113319
CREATED:20241125T175206Z
LAST-MODIFIED:20241125T175447Z
UID:4454-1732818600-1732825800@www.gagetownchamber.com
SUMMARY:Trivia at the Gagetown Grill
DESCRIPTION:TRIVIA AT THE GAGETOWN GRILL
URL:https://www.gagetownchamber.com/event/4454/
LOCATION:The Gagetown Grill
END:VEVENT
BEGIN:VEVENT
DTSTART;TZID=America/Moncton:20241123T100000
DTEND;TZID=America/Moncton:20241124T170000
DTSTAMP:20260423T113319
CREATED:20240904T010436Z
LAST-MODIFIED:20240904T010436Z
UID:3955-1732356000-1732467600@www.gagetownchamber.com
SUMMARY:Christmas In The Village 2024
DESCRIPTION:Unique shopping opportunities and festive activities in the Village of Gagetown! Local artisans\, handcrafts\, tasty treats\, baked goods\, pottery demos\, Santa Claus\, and so much more! \nMore details to come!
URL:https://www.gagetownchamber.com/event/christmas-in-the-village-2024/
LOCATION:New Brunswick
ATTACH;FMTTYPE=image/jpeg:https://www.gagetownchamber.com/wp-content/uploads/2024/09/citv-event-banne.jpg
END:VEVENT
BEGIN:VEVENT
DTSTART;TZID=America/Moncton:20241009T163000
DTEND;TZID=America/Moncton:20241009T190000
DTSTAMP:20260423T113319
CREATED:20240911T073051Z
LAST-MODIFIED:20240911T073341Z
UID:4237-1728491400-1728500400@www.gagetownchamber.com
SUMMARY:October 9\, 2024 Chamber Meeting
DESCRIPTION:On the second Wednesday of every month\, the Village of Gagetown & Area Chamber of Commerce executives hold a monthly meeting and invite Chamber members to attend. We greatly appreciate any and all who attend\, and contribute to discussion.
URL:https://www.gagetownchamber.com/event/october-9-2024-chamber-meeting/
LOCATION:Gagetown Legion\, 81 Tilley Rd\, Gagetown\, NB E5M 1B3\, Gagetown\, NB\, E5M 1B3\, Canada
ATTACH;FMTTYPE=image/jpeg:https://www.gagetownchamber.com/wp-content/uploads/2024/07/gagetown-community-sailing.jpg
END:VEVENT
BEGIN:VEVENT
DTSTART;TZID=America/Moncton:20240911T163000
DTEND;TZID=America/Moncton:20240911T190000
DTSTAMP:20260423T113319
CREATED:20240911T072849Z
LAST-MODIFIED:20240911T073251Z
UID:4234-1726072200-1726081200@www.gagetownchamber.com
SUMMARY:September 11\, 2024 Chamber Meeting
DESCRIPTION:On the second Wednesday of every month\, the Village of Gagetown & Area Chamber of Commerce executives hold a monthly meeting and invite Chamber members to attend. We greatly appreciate any and all who attend\, and contribute to discussion.
URL:https://www.gagetownchamber.com/event/september-11-2024-chamber-meeting/
LOCATION:Gagetown Legion\, 81 Tilley Rd\, Gagetown\, NB E5M 1B3\, Gagetown\, NB\, E5M 1B3\, Canada
ATTACH;FMTTYPE=image/jpeg:https://www.gagetownchamber.com/wp-content/uploads/2024/07/gagetown-community-sailing.jpg
END:VEVENT
END:VCALENDAR